BEGIN:VCALENDAR
VERSION:2.0
PRODID:-//RWSC - ECPv6.15.20//NONSGML v1.0//EN
CALSCALE:GREGORIAN
METHOD:PUBLISH
X-ORIGINAL-URL:https://rwsc.org
X-WR-CALDESC:Events for RWSC
REFRESH-INTERVAL;VALUE=DURATION:PT1H
X-Robots-Tag:noindex
X-PUBLISHED-TTL:PT1H
BEGIN:VTIMEZONE
TZID:America/New_York
BEGIN:DAYLIGHT
TZOFFSETFROM:-0500
TZOFFSETTO:-0400
TZNAME:EDT
DTSTART:20240310T070000
END:DAYLIGHT
BEGIN:STANDARD
TZOFFSETFROM:-0400
TZOFFSETTO:-0500
TZNAME:EST
DTSTART:20241103T060000
END:STANDARD
BEGIN:DAYLIGHT
TZOFFSETFROM:-0500
TZOFFSETTO:-0400
TZNAME:EDT
DTSTART:20250309T070000
END:DAYLIGHT
BEGIN:STANDARD
TZOFFSETFROM:-0400
TZOFFSETTO:-0500
TZNAME:EST
DTSTART:20251102T060000
END:STANDARD
BEGIN:DAYLIGHT
TZOFFSETFROM:-0500
TZOFFSETTO:-0400
TZNAME:EDT
DTSTART:20260308T070000
END:DAYLIGHT
BEGIN:STANDARD
TZOFFSETFROM:-0400
TZOFFSETTO:-0500
TZNAME:EST
DTSTART:20261101T060000
END:STANDARD
END:VTIMEZONE
BEGIN:VEVENT
DTSTART;TZID=America/New_York:20250128T140000
DTEND;TZID=America/New_York:20250128T160000
DTSTAMP:20260425T175931
CREATED:20241217T203247Z
LAST-MODIFIED:20241217T203248Z
UID:10000263-1738072800-1738080000@rwsc.org
SUMMARY:RWSC Bird and Bat Subcommittee Meeting
DESCRIPTION:Agenda | Past meeting materials
URL:https://rwsc.org/event/rwsc-bird-and-bat-subcommittee-meeting-1-28/
CATEGORIES:Bird & Bat Subcommittee,Subcommittee Meetings
ATTACH;FMTTYPE=image/png:https://rwsc.org/wp-content/uploads/2022/10/BB.png
LOCATION:https://zoom.us/j/95274326106
END:VEVENT
BEGIN:VEVENT
DTSTART;TZID=America/New_York:20250131T110000
DTEND;TZID=America/New_York:20250131T120000
DTSTAMP:20260425T175931
CREATED:20241203T183354Z
LAST-MODIFIED:20250131T140151Z
UID:10000262-1738321200-1738324800@rwsc.org
SUMMARY:MTS-RWSC Joint Technology Committee Call
DESCRIPTION:We are excited to invite you to the upcoming MTS-RWSC Joint Committee Call scheduled for January 31 from 11:00 AM to 12:00 PM EST.  \n\n\n\nOur Joint Committee\, uniting the RWSC Technology Subcommittee and MTS Offshore Renewable Energy Committee\, seeks to explore opportunities\, share insights\, and foster collaboration within the industry. \n\n\n\nThe agenda can be found here.  \n\n\n\nRegistration is required. You can register for the meeting here.
URL:https://rwsc.org/event/mts-rwsc-joint-technology-committee-call-2/
CATEGORIES:Subcommittee Meetings,Technology Subcommittee
ATTACH;FMTTYPE=image/png:https://rwsc.org/wp-content/uploads/2023/04/CT.png
END:VEVENT
END:VCALENDAR