BEGIN:VCALENDAR
VERSION:2.0
PRODID:-//RWSC - ECPv6.15.20//NONSGML v1.0//EN
CALSCALE:GREGORIAN
METHOD:PUBLISH
X-WR-CALNAME:RWSC
X-ORIGINAL-URL:https://rwsc.org
X-WR-CALDESC:Events for RWSC
REFRESH-INTERVAL;VALUE=DURATION:PT1H
X-Robots-Tag:noindex
X-PUBLISHED-TTL:PT1H
BEGIN:VTIMEZONE
TZID:America/New_York
BEGIN:DAYLIGHT
TZOFFSETFROM:-0500
TZOFFSETTO:-0400
TZNAME:EDT
DTSTART:20220313T070000
END:DAYLIGHT
BEGIN:STANDARD
TZOFFSETFROM:-0400
TZOFFSETTO:-0500
TZNAME:EST
DTSTART:20221106T060000
END:STANDARD
BEGIN:DAYLIGHT
TZOFFSETFROM:-0500
TZOFFSETTO:-0400
TZNAME:EDT
DTSTART:20230312T070000
END:DAYLIGHT
BEGIN:STANDARD
TZOFFSETFROM:-0400
TZOFFSETTO:-0500
TZNAME:EST
DTSTART:20231105T060000
END:STANDARD
BEGIN:DAYLIGHT
TZOFFSETFROM:-0500
TZOFFSETTO:-0400
TZNAME:EDT
DTSTART:20240310T070000
END:DAYLIGHT
BEGIN:STANDARD
TZOFFSETFROM:-0400
TZOFFSETTO:-0500
TZNAME:EST
DTSTART:20241103T060000
END:STANDARD
END:VTIMEZONE
BEGIN:VEVENT
DTSTART;TZID=America/New_York:20231017T100000
DTEND;TZID=America/New_York:20231017T120000
DTSTAMP:20260421T014228
CREATED:20230823T153551Z
LAST-MODIFIED:20231002T144844Z
UID:10000202-1697536800-1697544000@rwsc.org
SUMMARY:RWSC Sea Turtle Subcommittee Meeting
DESCRIPTION:Agenda | Past Meeting Materials
URL:https://rwsc.org/event/rwsc-sea-turtle-subcommittee-meeting-2/
CATEGORIES:Sea Turtle Subcommittee
ATTACH;FMTTYPE=image/png:https://rwsc.org/wp-content/uploads/2022/10/ST.png
LOCATION:https://zoom.us/j/98174682675
END:VEVENT
BEGIN:VEVENT
DTSTART;TZID=America/New_York:20231017T140000
DTEND;TZID=America/New_York:20231017T160000
DTSTAMP:20260421T014228
CREATED:20230908T160705Z
LAST-MODIFIED:20231002T144906Z
UID:10000206-1697551200-1697558400@rwsc.org
SUMMARY:RWSC Bird & Bat Subcommittee Meeting
DESCRIPTION: Agenda | Past meeting materials
URL:https://rwsc.org/event/rwsc-bird-bat-subcommittee-meeting-10-17/
CATEGORIES:Bird & Bat Subcommittee
ATTACH;FMTTYPE=image/png:https://rwsc.org/wp-content/uploads/2022/10/BB.png
LOCATION:https://zoom.us/j/95909984386
END:VEVENT
BEGIN:VEVENT
DTSTART;TZID=America/New_York:20231019T130000
DTEND;TZID=America/New_York:20231019T140000
DTSTAMP:20260421T014228
CREATED:20230817T180714Z
LAST-MODIFIED:20231016T140701Z
UID:10000200-1697720400-1697724000@rwsc.org
SUMMARY:RWSC Technology Subcommittee Meeting
DESCRIPTION:Agenda | Past Meeting Materials.
URL:https://rwsc.org/event/rwsc-technology-subcommittee-meeting-10-19/
CATEGORIES:Subcommittee Meetings,Technology Subcommittee
ATTACH;FMTTYPE=image/png:https://rwsc.org/wp-content/uploads/2023/04/CT.png
LOCATION:https://zoom.us/j/97883912987
END:VEVENT
END:VCALENDAR