BEGIN:VCALENDAR
VERSION:2.0
PRODID:-//RWSC - ECPv6.15.20//NONSGML v1.0//EN
CALSCALE:GREGORIAN
METHOD:PUBLISH
X-WR-CALNAME:RWSC
X-ORIGINAL-URL:https://rwsc.org
X-WR-CALDESC:Events for RWSC
REFRESH-INTERVAL;VALUE=DURATION:PT1H
X-Robots-Tag:noindex
X-PUBLISHED-TTL:PT1H
BEGIN:VTIMEZONE
TZID:America/New_York
BEGIN:DAYLIGHT
TZOFFSETFROM:-0500
TZOFFSETTO:-0400
TZNAME:EDT
DTSTART:20220313T070000
END:DAYLIGHT
BEGIN:STANDARD
TZOFFSETFROM:-0400
TZOFFSETTO:-0500
TZNAME:EST
DTSTART:20221106T060000
END:STANDARD
BEGIN:DAYLIGHT
TZOFFSETFROM:-0500
TZOFFSETTO:-0400
TZNAME:EDT
DTSTART:20230312T070000
END:DAYLIGHT
BEGIN:STANDARD
TZOFFSETFROM:-0400
TZOFFSETTO:-0500
TZNAME:EST
DTSTART:20231105T060000
END:STANDARD
BEGIN:DAYLIGHT
TZOFFSETFROM:-0500
TZOFFSETTO:-0400
TZNAME:EDT
DTSTART:20240310T070000
END:DAYLIGHT
BEGIN:STANDARD
TZOFFSETFROM:-0400
TZOFFSETTO:-0500
TZNAME:EST
DTSTART:20241103T060000
END:STANDARD
END:VTIMEZONE
BEGIN:VEVENT
DTSTART;TZID=America/New_York:20230419T093000
DTEND;TZID=America/New_York:20230419T113000
DTSTAMP:20260420T215711
CREATED:20230404T142945Z
LAST-MODIFIED:20230407T135232Z
UID:10000148-1681896600-1681903800@rwsc.org
SUMMARY:RWSC Marine Mammal Subcommittee Meeting
DESCRIPTION:This meeting time will be used by the Subcommittee to hear an update and provide comments to a contractor on draft deliverables. As such\, the meeting will be open to Subcommittee members only. \n\n\n\nTo hear an update on the Power Analysis for Optimal Design of a Passive Acoustic Monitoring Network in the Atlantic Ocean\, please join the May 17 2023 Subcommittee meeting. \n\n\n\nMeeting materials\, including agendas\, summaries\, and recordings from previous meetings are located in the Public Marine Mammal Subcommittee SharePoint.
URL:https://rwsc.org/event/marine-mammal-subcommittee-meeting-april192023/
CATEGORIES:Marine Mammal Subcommittee,Subcommittee Meetings
ATTACH;FMTTYPE=image/png:https://rwsc.org/wp-content/uploads/2022/07/MM.png
END:VEVENT
END:VCALENDAR