BEGIN:VCALENDAR
VERSION:2.0
PRODID:-//RWSC - ECPv6.15.20//NONSGML v1.0//EN
CALSCALE:GREGORIAN
METHOD:PUBLISH
X-ORIGINAL-URL:https://rwsc.org
X-WR-CALDESC:Events for RWSC
REFRESH-INTERVAL;VALUE=DURATION:PT1H
X-Robots-Tag:noindex
X-PUBLISHED-TTL:PT1H
BEGIN:VTIMEZONE
TZID:America/New_York
BEGIN:DAYLIGHT
TZOFFSETFROM:-0500
TZOFFSETTO:-0400
TZNAME:EDT
DTSTART:20230312T070000
END:DAYLIGHT
BEGIN:STANDARD
TZOFFSETFROM:-0400
TZOFFSETTO:-0500
TZNAME:EST
DTSTART:20231105T060000
END:STANDARD
BEGIN:DAYLIGHT
TZOFFSETFROM:-0500
TZOFFSETTO:-0400
TZNAME:EDT
DTSTART:20240310T070000
END:DAYLIGHT
BEGIN:STANDARD
TZOFFSETFROM:-0400
TZOFFSETTO:-0500
TZNAME:EST
DTSTART:20241103T060000
END:STANDARD
BEGIN:DAYLIGHT
TZOFFSETFROM:-0500
TZOFFSETTO:-0400
TZNAME:EDT
DTSTART:20250309T070000
END:DAYLIGHT
BEGIN:STANDARD
TZOFFSETFROM:-0400
TZOFFSETTO:-0500
TZNAME:EST
DTSTART:20251102T060000
END:STANDARD
END:VTIMEZONE
BEGIN:VEVENT
DTSTART;TZID=America/New_York:20240209T130000
DTEND;TZID=America/New_York:20240209T140000
DTSTAMP:20260425T114739
CREATED:20240124T170153Z
LAST-MODIFIED:20240124T170154Z
UID:10000233-1707483600-1707487200@rwsc.org
SUMMARY:RWSC Science Plan Release Webinar
DESCRIPTION:The Regional Wildlife Science Collaborative for Offshore Wind (RWSC) announced the release of the Science Plan on January 25\, 2024. Join this one-hour webinar to learn about how to access the Science Plan\, how it was developed\, and RWSC’s next steps for coordinating and implementing offshore wind and wildlife research. \n\n\n\nRegister for the webinar here
URL:https://rwsc.org/event/rwsc-science-plan-release-webinar/
CATEGORIES:RWSC webinar
ATTACH;FMTTYPE=image/png:https://rwsc.org/wp-content/uploads/2023/11/RWSC_Logo_7_Icons_Cluster.png
END:VEVENT
BEGIN:VEVENT
DTSTART;TZID=America/New_York:20240215T093000
DTEND;TZID=America/New_York:20240215T123000
DTSTAMP:20260425T114739
CREATED:20240116T143241Z
LAST-MODIFIED:20240116T144746Z
UID:10000230-1707989400-1708000200@rwsc.org
SUMMARY:RWSC Acoustic Telemetry Workshop
DESCRIPTION:This is a joint meeting for the RWSC Sea Turtle and Protected Fish Subcommittees. Both the Sea Turtle and Protected Fish Species Subcommittees have identified a need for coordination around acoustic telemetry deployments\, data management\, and research. Both Subcommittees have decided to meet jointly in February 2024 to kick off this work with partners including the Responsible Offshore Science Alliance\, Atlantic Cooperative Telemetry Network\, and others. The specific goals of this initial session are to hear perspectives from partners about challenges and opportunities for regional collaboration with respect to acoustic telemetry and to identify discrete actions for RWSC\, ROSA\, and partners to facilitate collaboration\, including: \n\n\n\n\nSupporting a shared/internal map of all receiver deployments with essential metadata (PI contact info\, deployment duration\, co-deployed sensors\, etc.)\n\n\n\nDeveloping tools and best practices for acoustic telemetry data management (or adapt existing tools specifically for offshore wind research applications)\n\n\n\nDeveloping best practices for regional scale acoustic telemetry data products that address key offshore wind research questions and meet the needs of decision makers
URL:https://rwsc.org/event/rwsc-acoustic-telemetry-workshop-2-15/
CATEGORIES:Protected Fish Species Subcommittee,Sea Turtle Subcommittee
ATTACH;FMTTYPE=image/png:https://rwsc.org/wp-content/uploads/2024/01/Screen-Shot-2024-01-16-at-9.30.00-AM.png
LOCATION:https://zoom.us/j/96774928773
END:VEVENT
BEGIN:VEVENT
DTSTART;TZID=America/New_York:20240227T100000
DTEND;TZID=America/New_York:20240227T120000
DTSTAMP:20260425T114739
CREATED:20240122T195558Z
LAST-MODIFIED:20240122T195558Z
UID:10000231-1709028000-1709035200@rwsc.org
SUMMARY:RWSC Sea Turtle Subcommittee Meeting
DESCRIPTION:Agenda | Past Meeting Materials
URL:https://rwsc.org/event/rwsc-sea-turtle-subcommittee-meeting-2-27/
CATEGORIES:Sea Turtle Subcommittee
ATTACH;FMTTYPE=image/png:https://rwsc.org/wp-content/uploads/2022/10/ST.png
LOCATION:https://zoom.us/j/96389887649
END:VEVENT
BEGIN:VEVENT
DTSTART;TZID=America/New_York:20240227T140000
DTEND;TZID=America/New_York:20240227T160000
DTSTAMP:20260425T114739
CREATED:20240109T182055Z
LAST-MODIFIED:20240109T182056Z
UID:10000228-1709042400-1709049600@rwsc.org
SUMMARY:RWSC Bird and Bat Subcommittee Meeting
DESCRIPTION:Agenda | Past meeting materials
URL:https://rwsc.org/event/rwsc-bird-and-bat-subcommittee-meeting-2-27/
CATEGORIES:Bird & Bat Subcommittee
ATTACH;FMTTYPE=image/png:https://rwsc.org/wp-content/uploads/2022/10/BB.png
LOCATION:https://zoom.us/j/98274980994
END:VEVENT
END:VCALENDAR